BEGIN:VCALENDAR
VERSION:2.0
PRODID:-//EC Digital//EC Events//EN
CALSCALE:GREGORIAN
METHOD:PUBLISH
X-WR-CALNAME:Rangeela Dance Company
X-WR-TIMEZONE:America/Los_Angeles
BEGIN:VEVENT
UID:ec-event-333235@rangeeladancecompany.com
DTSTAMP:20260425T165040Z
DTSTART;TZID=America/Los_Angeles:20260326T200000
DTEND;TZID=America/Los_Angeles:20260326T213000
SUMMARY:Adults  Bollywood Dance with Rangeela  - South Bay
DESCRIPTION:Adults Bollywood dance class!RANGEELA DANCE CO. PRESENTS…\nBo
 llywood classes for Adults in South Bay!\nEnroll to learn Bollywood basics 
 with our fabulous Rangeela instructor\, Yaman. We’ll be learning in studi
 o A at Fusion Studio – Rolling Hills.\nQuestions? Email us info@dancewith
 rangeela.com\nAbout the instructors – Meet Yaman:\nYaman Kalyan Pattanaik
  is a Tech Functional Consultant and an acclaimed Odissi and Indo-Contempor
 ary dancer with over 23 years of training. Her performances—marked by Bha
 va\, Taala\, and Abhinaya—have been featured at the Vibrant Gujarat Globa
 l Summit\, Irvine Global Village Festival\, and the Asian American Dance Fe
 stival\, and other global stages.\nBased in California\, Yaman blends Odiss
 i’s classical grace with Contemporary\, and Bollywood Fusion influences\,
  creating a unique artistic expression that bridges tradition\, innovation\
 , and cultural pride.\n 
LOCATION:Fusion Studios\, 550 Deep Valley Drive #241\, Rolling Hills Estate
 s\, US
URL:https://rangeeladancecompany.com/dance-classes/adults-bollywood-dance-w
 ith-rangeela-south-bay-2026-03-26/
X-COST:$25.00
STATUS:CONFIRMED
END:VEVENT
END:VCALENDAR
