BEGIN:VCALENDAR
VERSION:2.0
PRODID:-//EC Digital//EC Events//EN
CALSCALE:GREGORIAN
METHOD:PUBLISH
X-WR-CALNAME:Rangeela Dance Company
X-WR-TIMEZONE:America/Los_Angeles
BEGIN:VEVENT
UID:ec-event-333237@rangeeladancecompany.com
DTSTAMP:20260425T170701Z
DTSTART;TZID=America/Los_Angeles:20260326T203000
DTEND;TZID=America/Los_Angeles:20260326T220000
SUMMARY:SemiClassical Workshop with Meha Negandhi
DESCRIPTION:Come #DanceWithRangeela - Premier Bollywood fusion dance compan
 y!Join Meha for a BollyClassical Dance Workshop!This class is open to all s
 kill levels. Our goal is for you to have a blast as you dance gracefully! M
 eet Meha — a dancer and choreographer based in Austin\, Texas\, with over
  10 years of dance experience and 4–5 years of teaching. Trained in Katha
 k and experienced in styles like Bollywood\, Hip Hop\, and fusion\, she cur
 rently focuses on teaching semi-classical in Austin and has built a communi
 ty of 100+ students.She began dancing at age 5\, performing in dance realit
 y shows as a child\, and later creating concept videos with teams in Mumbai
  and Austin. Meha has choreographed\, led teams and directed dance producti
 on videos for Agni Dance\, Gully 91\, Nakhra India. She is passionate about
  creating a strong dance community where people can connect\, grow\, and ce
 lebrate movement together.Follow us on Instagram to learn more!We ask that 
 all participants arrive 5 MINUTES prior to class.
LOCATION:SOL Studios - Dance\, Fitness\, Conferences & Special Events\, 461
 64 Warm Springs Boulevard\, #Unit #210\, Fremont\, CA\, US
URL:https://rangeeladancecompany.com/dance-classes/semiclassical-workshop-w
 ith-meha-negandhi-2026-03-26/
X-COST:$25.00
STATUS:CONFIRMED
END:VEVENT
END:VCALENDAR
