BEGIN:VCALENDAR
VERSION:2.0
PRODID:-//EC Digital//EC Events//EN
CALSCALE:GREGORIAN
METHOD:PUBLISH
X-WR-CALNAME:Rangeela Dance Company
X-WR-TIMEZONE:America/Los_Angeles
BEGIN:VEVENT
UID:ec-event-333244@rangeeladancecompany.com
DTSTAMP:20260425T153925Z
DTSTART;TZID=America/Los_Angeles:20260402T194000
DTEND;TZID=America/Los_Angeles:20260402T213000
SUMMARY:Dance Workshop with Ravi Varma (Seattle\, WA)
DESCRIPTION:Come #DanceWithRangeela and bust a move learning from Ravi Varm
 a!Join Rangeela Dance Company and Ravi Varma for a high-energy dance worksh
 op in SEATTLE!Our goal is for you to have a blast as learning from the man 
 himself – Ravi Varma!Learn more about Ravi Varma!Ravi Varma is a highly e
 steemed figure in the dance industry\, boasting over 15 years of experience
  as a judge\, dancer\, and choreographer. His extensive career has taken hi
 m to more than 20 countries\, where he trains numerous students each year. 
 An internationally renowned dancer and choreographer\, Ravi specializes in 
 street dance forms like Hip Hop\, Funk styles\, and House dance\, as well a
 s Indian traditional folk and contemporary dances. His deep research into t
 he history of dance allows him to master forms from the ground up.Ravi’s 
 choreography has garnered rave reviews from audiences and led to numerous t
 itles and championships for him and his BFAB Dance Crew\, which won the Pow
 er Of Desi Streets 2017 in Mumbai. Beyond his work with BFAB\, he is a soug
 ht-after guest educator at prestigious institutions such as IIT Kanpur\, II
 T Chennai\, Hansraj College in Delhi\, and Women’s Christian College in C
 hennai.His choreography is a unique fusion of diverse dance styles\, seamle
 ssly blending emotion with musical interpretation. This innovative approach
  sets him apart\, as he frequently directs conceptual dance short films tha
 t showcase his passion and artistry. Additionally\, Ravi has made a name fo
 r himself as a celebrity trainer\, collaborating with prominent actors like
  Karthik\, Santhosh Narayanan\, Sidharth\, Dhee\, and Yogi B. He has also s
 erved as a judge for Hiphop International and appeared on popular dance sho
 ws such as Dance + (Star Plus TV)\, Kings of Dance (Vijay TV)\, and Dance v
 s Dance(Colors TV).Achievements:BYS 2022: Winners from BangaloreDestiny 201
 9: Winners from ChennaiBreezer Vivid Shuffle: Winners from MumbaiNrutya 201
 9: Winners from BelgaumPODS 2019: Winners from MumbaiAzadi 2019: Winners fr
 om BangalorePorkalam 2019: Winners from ChennaiGenre 2019: Runners-up from 
 DelhiWorld of Dance Finals 2017: Competed in the USAKings of Dance Season 1
 : Semifinalists on Vijay TV7UP Dance Pattalam 2013: 4th place out of 1800 t
 eamsTechofes 2014: Runners-up from ChennaiPODS 2015: Runners-up from Mumbai
 Hiphop UNITE 2015: Silver medalist\, qualified for the World Championship i
 n Martinique\, FranceDance + Season 5: Top 10 placementFollow us on https:/
 /www.instagram.com/rangeeladancecompany/ to stay up to date about the event
 !We ask that all participants arrive 10 MINUTES prior to class.
LOCATION:Flow Fitness SLU\, 311 Terry Ave N\, Seattle\, WA\, US
URL:https://rangeeladancecompany.com/dance-classes/dance-workshop-with-ravi
 -varma-seattle-wa-2026-04-02/
X-COST:$30.00 - $40.00
STATUS:CONFIRMED
END:VEVENT
END:VCALENDAR
