BEGIN:VCALENDAR
VERSION:2.0
PRODID:-//EC Digital//EC Events//EN
CALSCALE:GREGORIAN
METHOD:PUBLISH
X-WR-CALNAME:Rangeela Dance Company
X-WR-TIMEZONE:America/Los_Angeles
BEGIN:VEVENT
UID:ec-event-333249@rangeeladancecompany.com
DTSTAMP:20260425T153755Z
DTSTART;TZID=America/Los_Angeles:20260409T194000
DTEND;TZID=America/Los_Angeles:20260409T210000
SUMMARY:BollyClassical Dance Workshop with Arushi (Seattle)
DESCRIPTION:Come #DanceWithRangeela - Seattle's premier Bollywood fusion da
 nce company!Class DescriptionJoin Arushi for this exciting Bollyclassical d
 ance workshop where you’ll learn choreography to a hit Bollywood song! Fo
 llow us on Instagram (@rangeeladancecompany) to see the song reveal!This cl
 ass is open to all skill levels. Our goal is for you to have a blast as you
  dance your way to becoming a Bollywood star!We ask that all participants a
 rrive 5 MINUTES prior to class.
LOCATION:Flow Fitness SLU\, 311 Terry Ave N\, Seattle\, WA\, US
URL:https://rangeeladancecompany.com/dance-classes/bollyclassical-dance-wor
 kshop-with-arushi-seattle-2026-04-09/
X-COST:$22.00 - $27.00
STATUS:CONFIRMED
END:VEVENT
END:VCALENDAR
