BEGIN:VCALENDAR
VERSION:2.0
PRODID:-//EC Digital//EC Events//EN
CALSCALE:GREGORIAN
METHOD:PUBLISH
X-WR-CALNAME:Rangeela Dance Company
X-WR-TIMEZONE:America/Phoenix
BEGIN:VEVENT
UID:ec-event-333251@rangeeladancecompany.com
DTSTAMP:20260425T153920Z
DTSTART;TZID=America/Phoenix:20260412T140000
DTEND;TZID=America/Phoenix:20260412T160000
SUMMARY:Bhangra Dance Workshop with Keshav (Phoenix)
DESCRIPTION:Come #DanceWithRangeela and join Rangeela  for a fun-filled wor
 kshop!Come #DanceWithRangeela and join Rangeela for a fun-filled workshop!\
 n\n\nGet ready to have a blast doing Bhangra with Keshav!\nClass Descriptio
 n\nJoin Keshav for this fun Bhangra workshop! Follow us on Instagram (@rang
 eeladancecompany) to see the song reveal!\nIn-Studio Class\nFor indoor trai
 ning\, we have a capacity limit. We ask that all participants arrive 10 MIN
 UTES prior to class.\nAbout Keshav\nKeshav is a Phoenix-based dancer\, inst
 ructor\, and emerging leader in the Bhangra community whose journey began j
 ust three years ago and has quickly evolved into a deep commitment to the c
 raft. From 2023 to 2025\, Keshav competed in and later led a team in the fu
 sion circuits of Desi Dance Network and National Desi Dance League\, buildi
 ng both performance experience and leadership skills. Since 2025\, he has b
 een training with and instructing at Two Step Bhangra\, while also leading 
 and collaborating on workshops with organizations like Bhangra Empire and A
 rizona State University. Passionate about preserving authenticity\, Keshav 
 is dedicated to bringing traditional folk Bhangra to Arizona and sharing it
 s roots and energy with the wider community.\nCheck Out Some of Keshav’s 
 Work:
LOCATION:Strait Bodied (Dance Studio)\, 524 West Broadway Road\, #Suite 107
 \, #Suite 107\, #Suite 107\, #Suite 107\, Tempe\, AZ\, US
URL:https://rangeeladancecompany.com/dance-classes/bhangra-dance-workshop-w
 ith-keshav-phoenix-2026-04-12-2/
X-COST:$22.00
STATUS:CONFIRMED
END:VEVENT
END:VCALENDAR
