BEGIN:VCALENDAR
VERSION:2.0
PRODID:-//EC Digital//EC Events//EN
CALSCALE:GREGORIAN
METHOD:PUBLISH
X-WR-CALNAME:Rangeela Dance Company
X-WR-TIMEZONE:America/Los_Angeles
BEGIN:VEVENT
UID:ec-event-333253@rangeeladancecompany.com
DTSTAMP:20260425T153812Z
DTSTART;TZID=America/Los_Angeles:20260416T194000
DTEND;TZID=America/Los_Angeles:20260416T210000
SUMMARY:Bhangra Dance Workshop with Sarthak (Seattle)
DESCRIPTION:Come #DanceWithRangeela – Learn some energetic Bhangra Choreo
 graphy with Sarthak!Class DescriptionJoin Sarthak for this exciting Bhangra
  dance class! Follow us on Instagram (@rangeeladancecompany) to see the son
 g reveal!This class will be choreography-focused to learn a short but high 
 energy Bhangra routine! Follow us on Instagram @RangeelaDanceCompany to fin
 d out what our weekly classes will be. We ask that all participants arrive 
 5 MINUTES prior to class.About SarthakBorn and raised in Cali\, Sarthak sta
 rted officially dancing 6 years ago\, and since has never stopped. He parti
 cipated in his college dance team\, UC Irvine Zamana\, serving as Captain\,
  where he has learned and performed with a variety of styles from BollyFusi
 on\, Bhangra\, Contemporary\, Hip-Hop\, Garba-Raas\, all the way to SemiCla
 ssical. During this time\, he and his team competed all over the country\, 
 lighting up the stage from California to Pennsylvania\, even competing at B
 ollywood America 2019. After graduating from college\, he moved to Seattle 
 where he has been with Rangeela for the past year\, pursuing his passion fo
 r dance through their various platforms. Sarthak's achievements include sev
 eral top 3 awards at national level collegiate dance competitions\, along w
 ith several productions with the Rangeela cast and crew. As a dancer\, Sart
 hak loves bringing out his filmy side with every style he does\, and strong
 ly believes that the most important part of any dance venture is having fun
  and enjoying\, and he cannot wait to share this experience with all of you
  in this upcoming class!Fun Fact: did you know that Sarthak was featured in
  sensational artist Tesher's "Tesher Slide" music video and performed behin
 d the super talented singer Raghav live for his hit song "Teri Baaton Me"??
LOCATION:Flow Fitness SLU\, 311 Terry Ave N\, Seattle\, WA\, US
URL:https://rangeeladancecompany.com/dance-classes/bhangra-dance-workshop-w
 ith-sarthak-seattle-2026-04-16-2/
X-COST:$22.00 - $27.00
STATUS:CONFIRMED
END:VEVENT
END:VCALENDAR
