BEGIN:VCALENDAR
VERSION:2.0
PRODID:-//EC Digital//EC Events//EN
CALSCALE:GREGORIAN
METHOD:PUBLISH
X-WR-CALNAME:Rangeela Dance Company
X-WR-TIMEZONE:America/Los_Angeles
BEGIN:VEVENT
UID:ec-event-333255@rangeeladancecompany.com
DTSTAMP:20260425T153812Z
DTSTART;TZID=America/Los_Angeles:20260422T193000
DTEND;TZID=America/Los_Angeles:20260422T212000
SUMMARY:Bollywood Dance Workshop With Kanchan (Seattle)
DESCRIPTION:Come #DanceWithRangeela – Learn some fire Bollywood choreo wi
 th Kanchan!Come #DanceWithRangeela – Learn some fire Bollywood choreo wit
 h Kanchan!\nClass Description\nJoin Kanchan for this exciting Bollywood dan
 ce class where you’ll learn choreography to a hit Bollywood song! Follow 
 us on Instagram to see the song reveal!\nThis class is open to all skill le
 vels. Our goal is for you to have a blast as you dance your way to becoming
  a Bollywood star!\nStudio Location\nWhim W’Him – Den Studio\n1716 2nd 
 Avenue North\, Seattle\, WA 98109
LOCATION:Whim W'Him Contemporary Dance Center\, 1716 2nd Avenue North\, Sea
 ttle\, WA\, US
URL:https://rangeeladancecompany.com/dance-classes/bollywood-dance-workshop
 -with-kanchan-seattle-2026-04-22/
X-COST:$25.00 - $35.00
STATUS:CONFIRMED
END:VEVENT
END:VCALENDAR
