BEGIN:VCALENDAR
VERSION:2.0
PRODID:-//EC Digital//EC Events//EN
CALSCALE:GREGORIAN
METHOD:PUBLISH
X-WR-CALNAME:Rangeela Dance Company
X-WR-TIMEZONE:America/Los_Angeles
BEGIN:VEVENT
UID:ec-event-333258@rangeeladancecompany.com
DTSTAMP:20260425T182508Z
DTSTART;TZID=America/Los_Angeles:20260426T120000
DTEND;TZID=America/Los_Angeles:20260614T130000
SUMMARY:Teens Bollywood Dance Los Angeles\, CA with Rangeela - April - June
  2026
DESCRIPTION:Open for teens in LA\, CALIFORNIA!RANGEELA DANCE CO. PRESENTSâ€
 ¦RANGEELA TEENS in South Bay!We are offering a 8-class Series that will cov
 er Bollywood dance! Enroll your teens to learn high-energy fusion blending 
 the cinematic flair of Bollywood with the grace and storytelling of Indian 
 semi-classical styles.Schedule:WEEKLY ON SUNDAYS at 12 PM04/26 05/03 05/10 
 05/17 05/24 05/31 06/07 06/14Limited spots are available per class\, so sig
 n up ASAP!Questions? Email us info@dancewithrangeela.comAbout the instructo
 r: Asmita WaghAsmita Wagh is a classically trained Kathak Dancer\, with ove
 r 15 years of experience in classical\, semi-classical\, Bollywood &amp\; f
 reestyle dance forms. Dance has been a part of her life since she learned t
 o walk. Coming from India &amp\; raised in Bombay\, she was exposed to Boll
 ywood &amp\; various music &amp\; dance styles early on. She has performed 
 as a background dancer for the Indian television awards show titled â€śStar
  Parivaar Awards â€“ Year 2004â€™ &amp\; recently for the Netflix Productio
 nsâ€™ Fame Game â€“ a Bollywood movie starring Madhuri Dixit â€“ Year 2022.
  Ever since childhood\, she has been performing at multiple stage shows in 
 Mumbai\, and now at fashion shows &amp\; events in &amp\; around Los Angele
 s\, San Diego and participated in various dance gigs.As a vibrant performer
 \, she enjoys performing at Bollywood Dance Recitals\, attending dance work
 shops\, learning expressive movements with trained techniques\, sharing dan
 ce space with other dancers &amp\; learning their art forms &amp\; dance st
 yles. Through her performances\, she believes in sharing positive energy\, 
 expressing stories\, emotions\, and spreading happiness while promoting men
 tal well-being. She is currently training in Kathak from the Lucknow Gharaa
 na in India. This invaluable association has allowed her to further refine 
 her dance movements\, learn from accomplished mentors\, and collaborate wit
 h fellow artists\, enriching her dance journey and expanding her artistic h
 orizons.
LOCATION:You Can Dance Studio\, 1089 Aviation Boulevard\, Hermosa Beach\, C
 A\, US
URL:https://rangeeladancecompany.com/dance-classes/teens-bollywood-dance-lo
 s-angeles-ca-with-rangeela-april-june-2026-2026-04-26/
X-COST:$40.00 - $280.00
STATUS:CONFIRMED
END:VEVENT
END:VCALENDAR
