BEGIN:VCALENDAR
VERSION:2.0
PRODID:-//EC Digital//EC Events//EN
CALSCALE:GREGORIAN
METHOD:PUBLISH
X-WR-CALNAME:Rangeela Dance Company
X-WR-TIMEZONE:America/Los_Angeles
BEGIN:VEVENT
UID:ec-event-333260@rangeeladancecompany.com
DTSTAMP:20260425T152520Z
DTSTART;TZID=America/Los_Angeles:20260430T194000
DTEND;TZID=America/Los_Angeles:20260430T210000
SUMMARY:Bollywood Dance Workshop With Kanchan (Seattle)
DESCRIPTION:Come #DanceWithRangeela – Learn some fire Bollywood choreo wi
 th Kanchan!Class DescriptionJoin Kanchan for this exciting Bollywood dance 
 class where you’ll learn choreography to a hit Bollywood song! Follow us 
 on Instagram to see the song reveal!This class is open to all skill levels.
  Our goal is for you to have a blast as you dance your way to becoming a Bo
 llywood star!
LOCATION:Flow Fitness SLU\, 311 Terry Ave N\, Seattle\, WA\, US
URL:https://rangeeladancecompany.com/dance-classes/bollywood-dance-workshop
 -with-kanchan-seattle-2026-04-30-2/
X-COST:$25.00 - $35.00
STATUS:CONFIRMED
END:VEVENT
END:VCALENDAR
