BEGIN:VCALENDAR
VERSION:2.0
PRODID:-//EC Digital//EC Events//EN
CALSCALE:GREGORIAN
METHOD:PUBLISH
X-WR-CALNAME:Rangeela Dance Company
X-WR-TIMEZONE:America/Los_Angeles
BEGIN:VEVENT
UID:ec-event-333262@rangeeladancecompany.com
DTSTAMP:20260425T164924Z
DTSTART;TZID=America/Los_Angeles:20260519T153000
DTEND;TZID=America/Los_Angeles:20260519T183000
SUMMARY:Dance Workshop at Zillow
DESCRIPTION:Dance Workshop at Zillow office on 05/19/2026
LOCATION:1301 2nd Ave\, 1301 2nd Avenue\, Seattle\, WA\, US
URL:https://rangeeladancecompany.com/dance-classes/dance-workshop-at-zillow
 -2026-05-19/
X-COST:$1\,650.00
STATUS:CONFIRMED
END:VEVENT
END:VCALENDAR
