BEGIN:VCALENDAR
VERSION:2.0
PRODID:-//EC Digital//EC Events//EN
CALSCALE:GREGORIAN
METHOD:PUBLISH
X-WR-CALNAME:Rangeela Dance Company
X-WR-TIMEZONE:America/Los_Angeles
BEGIN:VEVENT
UID:ec-event-333263@rangeeladancecompany.com
DTSTAMP:20260425T182448Z
DTSTART;TZID=America/Los_Angeles:20260607T111500
DTEND;TZID=America/Los_Angeles:20260802T124500
SUMMARY:Kids Bollywood Dance MARINA DEL REY (LA) with Rangeela  - June - Au
 g 2026
DESCRIPTION:Kids classes for ages 3-4 and 5-8!RANGEELA DANCE CO. PRESENTS..
 .RANGEELA ROCKSTARS in Marina Del Rey!We are offering a 8-class series that
  will cover Bollywood dance basics! Enroll your kids\, ages 3-8 yrs old on 
 Sundays\, to learn Bollywood basics with our fabulous Rangeela kids dance i
 nstructors. We keep the class sizes small so that your child can get person
 alized attention.Schedule:WEEKLY SUNDAYS (no class 7/5)6/76/146/216/287/127
 /197/268/2AGE 3-4 @ 11:15AM - 12:00PMAGE 5-8 @ 12:00PM - 12:45PMLimited spo
 ts are available per class\, so sign up ASAP! Check out highlights from our
  last session! How cute are these kiddos!Questions? Email us info@dancewith
 rangeela.comAbout the instructors: Kushal ParmarKush Parmar is an accomplis
 hed dancer specializing in Hip Hop\, Bollywood\, and Garba dance styles. As
  a member of Rutgers SAPA (South Asian Performing Artists)\, a Bollywood Fu
 sion Co-Ed Dance Team\, he has seen success with his team placing at severa
 l competitions like Phillyfest and Best of the Best. As captain\, Kush led 
 the team to a 1st place win at Phillyfest in 2009. From 2010 to 2013\, Kush
  was a member of Aatma Performing Arts as a performer\, choreographer\, and
  taught private lessons to the style of Bollywood Hip Hop for kids. During 
 this time\, the team won the Naya Andaaz dance competition and showcased th
 eir talents in their own long running production titled Mystic India. He is
  excited to teach kids again at Rangeela Dance Company - LA!
LOCATION:Studio U\, 760 Washington Boulevard\, Marina del Rey\, CA\, US
URL:https://rangeeladancecompany.com/dance-classes/kids-bollywood-dance-mar
 ina-del-rey-la-with-rangeela-june-aug-2026-2026-06-07/
X-COST:$35.00 - $260.00
STATUS:CONFIRMED
END:VEVENT
END:VCALENDAR
