BEGIN:VCALENDAR
VERSION:2.0
PRODID:-//EC Digital//EC Events//EN
CALSCALE:GREGORIAN
METHOD:PUBLISH
X-WR-CALNAME:Rangeela Dance Company
X-WR-TIMEZONE:America/Los_Angeles
BEGIN:VEVENT
UID:ec-event-333265@rangeeladancecompany.com
DTSTAMP:20260425T182449Z
DTSTART;TZID=America/Los_Angeles:20260628T111500
DTEND;TZID=America/Los_Angeles:20260823T120000
SUMMARY:Kids Bollywood Dance Manhattan Beach (LA) with Rangeela  - June - A
 ug 2026
DESCRIPTION:Kids dance classes! Age 5-8Kids dance classes! 5-8\n\n\n\nRANGE
 ELA DANCE CO. PRESENTS…\nRANGEELA ROCKSTARS in Manhattan/Hermosa Beach!\n
 We are offering a 8-class Series that will cover Bollywood dance basics! En
 roll your kids to learn Bollywood basics with our fabulous Rangeela kids da
 nce instructors. We keep the class sizes small so that your child can get p
 ersonalized attention.\nSchedule:\nWEEKLY ON SUNDAYS (No class 7/5) at 11:1
 5 AM\n06/28 07/12 07/26 08/02 08/09 08/16 08/30\nLimited spots are availabl
 e per class\, so sign up ASAP! Check out highlights from our last session! 
 How cute are these kiddos!\nPlease note we have other kids/adults offerings
  in Torrance and Marina Del Rey! Check out rangeeladancecompany.com/dance-c
 lasses-in-los-angeles to learn more\nQuestions? Email us info@dancewithrang
 eela.com\nAbout the instructors: Asmita Wagh\nAsmita Wagh is a classically 
 trained Kathak Dancer\, with over 15 years of experience in classical\, sem
 i-classical\, Bollywood &amp\; freestyle dance forms. Dance has been a part
  of her life since she learned to walk. Coming from India &amp\; raised in 
 Bombay\, she was exposed to Bollywood &amp\; various music &amp\; dance sty
 les early on. She has performed as a background dancer for the Indian telev
 ision awards show titled “Star Parivaar Awards – Year 2004’ &amp\; re
 cently for the Netflix Productions’ Fame Game – a Bollywood movie starr
 ing Madhuri Dixit – Year 2022. Ever since childhood\, she has been perfor
 ming at multiple stage shows in Mumbai\, and now at fashion shows &amp\; ev
 ents in &amp\; around Los Angeles\, San Diego and participated in various d
 ance gigs.\nAs a vibrant performer\, she enjoys performing at Bollywood Dan
 ce Recitals\, attending dance workshops\, learning expressive movements wit
 h trained techniques\, sharing dance space with other dancers &amp\; learni
 ng their art forms &amp\; dance styles. Through her performances\, she beli
 eves in sharing positive energy\, expressing stories\, emotions\, and sprea
 ding happiness while promoting mental well-being. She is currently training
  in Kathak from the Lucknow Gharaana in India. This invaluable association 
 has allowed her to further refine her dance movements\, learn from accompli
 shed mentors\, and collaborate with fellow artists\, enriching her dance jo
 urney and expanding her artistic horizons.
LOCATION:You Can Dance Studio\, 1089 Aviation Boulevard\, Hermosa Beach\, C
 A\, US
URL:https://rangeeladancecompany.com/dance-classes/kids-bollywood-dance-man
 hattan-beach-la-with-rangeela-june-aug-2026-2026-06-28-2/
X-COST:$35.00 - $260.00
STATUS:CONFIRMED
END:VEVENT
END:VCALENDAR
