BEGIN:VCALENDAR
VERSION:2.0
PRODID:-//EC Digital//EC Events//EN
CALSCALE:GREGORIAN
METHOD:PUBLISH
X-WR-CALNAME:Rangeela Dance Company
X-WR-TIMEZONE:America/Phoenix
BEGIN:VEVENT
UID:ec-event-333277@rangeeladancecompany.com
DTSTAMP:20260425T170024Z
DTSTART;TZID=America/Phoenix:20260325T163000
DTEND;TZID=America/Phoenix:20260504T130000
SUMMARY:Cultural Fair for Brighton School
DESCRIPTION:Cultural Fair for Brighton School on 04/17/2026
LOCATION:Axon\, 17800 North 85th Street\, Scottsdale\, AZ\, US
URL:https://rangeeladancecompany.com/dance-classes/cultural-fair-for-bright
 on-school-2026-03-25-2/
X-COST:$475.00
STATUS:CONFIRMED
END:VEVENT
END:VCALENDAR
