BEGIN:VCALENDAR
VERSION:2.0
PRODID:-//EC Digital//EC Events//EN
CALSCALE:GREGORIAN
METHOD:PUBLISH
X-WR-CALNAME:Rangeela Dance Company
X-WR-TIMEZONE:America/Los_Angeles
BEGIN:VEVENT
UID:ec-event-333332@rangeeladancecompany.com
DTSTAMP:20260425T182345Z
DTSTART;TZID=America/Los_Angeles:20260419T183000
DTEND;TZID=America/Los_Angeles:20260419T200000
SUMMARY:SemiClassical Dance Workshop with Yaman (LA)
DESCRIPTION:Come #DanceWithRangeela - Premier Bollywood fusion dance compan
 y!\n\nCome #DanceWithRangeela – Premier Bollywood fusion dance company!\n
 Join Yaman for a SemiClassical Dance Workshop in LOS ANGELES!\nThis class i
 s open to all skill levels. Our goal is for you to have a blast as you danc
 e gracefully!\nFollow us on https://www.instagram.com/rangeeladancecompany/
  to stay up to date about the event!\nWe ask that all participants arrive 5
  MINUTES prior to class.\nFollow Yaman on Instagram (@yaman_pattanaik) to e
 xperience her dance journey!\nMeet Yaman:\nYaman Kalyan Pattanaik is a Tech
  Functional Consultant and an acclaimed Odissi and Indo-Contemporary dancer
  with over 23 years of training. Her performances—marked by Bhava\, Taala
 \, and Abhinaya—have been featured at the Vibrant Gujarat Global Summit\,
  Irvine Global Village Festival\, and the Asian American Dance Festival\, a
 nd other global stages.\nBased in California\, Yaman blends Odissi’s clas
 sical grace with Contemporary\, and Bollywood Fusion influences\, creating 
 a unique artistic expression that bridges tradition\, innovation\, and cult
 ural pride.
LOCATION:You Can Dance Studio\, 1089 Aviation Boulevard\, Hermosa Beach\, C
 A\, US
URL:https://rangeeladancecompany.com/dance-classes/semiclassical-dance-work
 shop-with-yaman-la-2026-04-19-2/
X-COST:$25.00
STATUS:CONFIRMED
END:VEVENT
END:VCALENDAR
