BEGIN:VCALENDAR
VERSION:2.0
PRODID:-//EC Digital//EC Events//EN
CALSCALE:GREGORIAN
METHOD:PUBLISH
X-WR-CALNAME:Rangeela Dance Company
X-WR-TIMEZONE:America/Los_Angeles
BEGIN:VEVENT
UID:ec-event-333336@rangeeladancecompany.com
DTSTAMP:20260425T182346Z
DTSTART;TZID=America/Los_Angeles:20260423T203000
DTEND;TZID=America/Los_Angeles:20260423T213000
SUMMARY:Adults  Bollywood Dance with Rangeela  - South Bay
DESCRIPTION:Adults Bollywood dance class!RANGEELA DANCE CO. PRESENTS…\nBo
 llywood classes for Adults in South Bay!\nEnroll to learn Bollywood basics 
 with our fabulous Rangeela instructor. We’ll be learning in studio B at F
 usion Studio – Rolling Hills.\nQuestions? Email us info@dancewithrangeela
 .com\nAbout the instructors – Meet Pushpalatha:\nPushpalatha is a seasone
 d dancer with an unparalleled passion for the art of movement. Her journey 
 in the world of dance has taken her through the rhythmic tapestry of Kathak
 \, the sensual allure of belly dancing\, the urban beats of hip hop\, the f
 luidity of contemporary dance\, and her personal favorite\, the vibrant ene
 rgy of Bollywood. Pushpalatha is on a mission to weave dance seamlessly int
 o people’s daily lives\, using it not just as a form of physical fitness 
 but as a transformative art that teaches confidence\, self-esteem\, perseve
 rance\, cultural awareness\, healthy lifestyle habits\, and\, of course\, s
 tress relief. In her classes\, participants are not just learning dance\; t
 hey are embarking on a journey of self-discovery. With a focus on musicalit
 y\, form\, attitude\, and sheer joy\, Pushpalatha’s dance routines are a 
 celebration of diversity\, drawing inspiration from a spectrum of dance sty
 les. Join Pushpalatha on this extraordinary dance adventure – where each 
 step is a brushstroke\, and the dance floor is a canvas for personal and cu
 ltural expression.
LOCATION:Fusion Studios\, 550 Deep Valley Drive #241\, Rolling Hills Estate
 s\, US
URL:https://rangeeladancecompany.com/dance-classes/adults-bollywood-dance-w
 ith-rangeela-south-bay-2026-04-23/
X-COST:$22.00
STATUS:CONFIRMED
END:VEVENT
END:VCALENDAR
