BEGIN:VCALENDAR
VERSION:2.0
PRODID:-//EC Digital//EC Events//EN
CALSCALE:GREGORIAN
METHOD:PUBLISH
X-WR-CALNAME:Rangeela Dance Company
X-WR-TIMEZONE:America/Los_Angeles
BEGIN:VEVENT
UID:ec-event-333420@rangeeladancecompany.com
DTSTAMP:20260425T165041Z
DTSTART;TZID=America/Los_Angeles:20260517T143000
DTEND;TZID=America/Los_Angeles:20260517T163000
SUMMARY:Kids Bollywood Dance SEATTLE with Rangeela – May-June
DESCRIPTION:Get ready to groove with Rangeela in Seattle’s coolest Kids B
 ollywood Dance class this May-June!\n\n\nKids Bollywood Dance SEATTLE with 
 Rangeela – May-June\nGet ready for some fun and energetic moves! Join us 
 in Seattle for in-person Kids Bollywood Dance classes with Rangeela. Perfec
 t for little dancers who love rhythm and colorful beats. Let your kids shin
 e on the dance floor this May and June!
LOCATION:Whim W'Him Contemporary Dance Center\, 1716 2nd Avenue North\, Sea
 ttle\, WA\, US
URL:https://rangeeladancecompany.com/dance-classes/kids-bollywood-dance-sea
 ttle-with-rangeela-may-june-2026-05-17/
X-COST:$38.00 - $162.50
STATUS:CONFIRMED
END:VEVENT
END:VCALENDAR
