BEGIN:VCALENDAR
VERSION:2.0
PRODID:-//EC Digital//EC Events//EN
CALSCALE:GREGORIAN
METHOD:PUBLISH
X-WR-CALNAME:Rangeela Dance Company
X-WR-TIMEZONE:America/Los_Angeles
BEGIN:VEVENT
UID:ec-event-333429@rangeeladancecompany.com
DTSTAMP:20260425T170242Z
DTSTART;TZID=America/Los_Angeles:20260503T143000
DTEND;TZID=America/Los_Angeles:20260614T160000
SUMMARY:Kids Bollywood Dance SEATTLE\, WA with Rangeela - May-June
DESCRIPTION:Kids classes for ages 4-7 and 8+!RANGEELA DANCE COMPANY PRESENT
 S...RANGEELA ROCKSTARS!We are offering a 11 class Series that will cover Bo
 llywood dance basics! Enroll your kids\, ages 4-7 and 8+ yrs old\, to learn
  Bollywood basics with our fabulous Rangeela kids dance instructors. We kee
 p the class sizes small so that your child can get personalized attention. 
 Schedule:SUNDAYS @ 2:30 - 4:00 PMAges 4-7: 2:30-3:15 PMAges 8+: 3:15-4:00 P
 MLocation: Whim W'Him Contemporary Dance CenterThere is free street parking
  on Sundays\, or there is a lot behind the studio: https://maps.app.goo.gl/
 SwzCzTZecxGJFS7r5?g_st=icDates:5/3\, 5/17\, 5/24\, 6/7\, 6/14Limited spots 
 are available per class\, so sign up ASAP!Questions? Email us workshops@dan
 cewithrangeela.comAbout the instructors: Katy Spada and Alisha KhatwaniKaty
  Spada Katy began dancing at 12\, training in tap\, ballet\, jazz\, and che
 erleading before expanding into modern\, African\, tango\, and theater with
  the Marin Community College Dance Company. She later taught Kinderdance to
  young children across the Bay Area and\, in graduate school\, discovered h
 er love for Bollywood\, Bhangra\, and Bharatanatyam. Passionate about explo
 ring diverse styles\, Katy finds dance to be a place of grounding\, joy\, a
 nd self-expression.Alisha Khatwani Dancing has been a passion of Alisha’s
  since she was young. Having spent most of her training learning Indian dan
 ce forms including Kathak\, Bollywood and Bhangra she enjoys spreading her 
 joy of dancing with kids. Alisha has been teaching the Rangeela Rockstars d
 ance program for over 2 years now and is excited to be teaching a new Bolly
 wood dance number this season. For Alisha\, teaching the kids the Bollywood
  style is about learning and incorporating the Indian culture through dance
 !
LOCATION:Whim W'Him Contemporary Dance Center\, 1716 2nd Avenue North\, Sea
 ttle\, WA\, US
URL:https://rangeeladancecompany.com/dance-classes/kids-bollywood-dance-sea
 ttle-wa-with-rangeela-may-june-2026-05-03/
X-COST:$38.00 - $162.50
STATUS:CONFIRMED
END:VEVENT
END:VCALENDAR
