BEGIN:VCALENDAR
VERSION:2.0
PRODID:-//EC Digital//EC Events//EN
CALSCALE:GREGORIAN
METHOD:PUBLISH
X-WR-CALNAME:Rangeela Dance Company
X-WR-TIMEZONE:America/Los_Angeles
BEGIN:VEVENT
UID:ec-event-333464@rangeeladancecompany.com
DTSTAMP:20260425T182506Z
DTSTART;TZID=America/Los_Angeles:20260630T170000
DTEND;TZID=America/Los_Angeles:20260630T200000
SUMMARY:Private Wedding Choreography with RDC
DESCRIPTION:Private wedding choreography package price.
URL:https://rangeeladancecompany.com/dance-classes/private-wedding-choreogr
 aphy-with-rdc-2026-06-30/
X-COST:$75.00 - $780.00
STATUS:CONFIRMED
END:VEVENT
END:VCALENDAR
